{"documentInfo":{"comments":"","keywords":"","credits":"","author":"","subject":"","antialiasingMode":"Best","title":"","category":"","textAntialiasingMode":"Force"},"access":"","tileInfo":{"lods":[{"level":0,"scale":512,"resolution":512},{"level":1,"scale":256,"resolution":256},{"level":2,"scale":128,"resolution":128},{"level":3,"scale":64,"resolution":64},{"level":4,"scale":32,"resolution":32},{"level":5,"scale":16,"resolution":16},{"level":6,"scale":8,"resolution":8},{"level":7,"scale":4,"resolution":4},{"level":8,"scale":2,"resolution":2},{"level":9,"scale":1,"resolution":1}],"origin":{"x":-2.0037508342787E7,"y":2.0037508342787E7},"format":"JPEG","compressionQuality":0,"spatialReference":{"wkid":102100},"rows":256,"dpi":0.0254,"cols":256},"description":null,"units":"esriMeters","type":"MapServer","supportedImageFormatTypes":"JPEG","tables":[],"layers":[{"maxScale":1,"subLayerIds":null,"name":null,"defaultVisibility":true,"id":737,"minScale":512,"parentLayerId":-1}],"modified":null,"id":"20k/{9196820D-E6D0-4EE2-B3BB-7C6296B10B4C}/default/404000","minScale":512,"mapName":"20_000/30/30_5/Flobecq_30_5(c1927D41).tif","spatialReference":{"wkid":102100},"fullExtent":{"ymin":-12400,"xmin":0,"ymax":0,"xmax":9494,"spatialReference":{"wkid":102100}},"capabilities":"Map","maxScale":1,"created":null,"singleFusedMapCache":true,"currentVersion":10.2,"initialExtent":{"ymin":-12400,"xmin":0,"ymax":0,"xmax":9494,"spatialReference":{"wkid":102100}},"name":"20_000/30/30_5/Flobecq_30_5(c1927D41).tif","serviceDescription":null,"copyrightText":"NGI - IGN","status":"created"}